BEGIN:VCALENDAR
VERSION:2.0
PRODID:-//Strathmore School - ECPv6.10.1.1//NONSGML v1.0//EN
CALSCALE:GREGORIAN
METHOD:PUBLISH
X-ORIGINAL-URL:https://www.strathmore.ac.ke
X-WR-CALDESC:Events for Strathmore School
REFRESH-INTERVAL;VALUE=DURATION:PT1H
X-Robots-Tag:noindex
X-PUBLISHED-TTL:PT1H
BEGIN:VTIMEZONE
TZID:Africa/Nairobi
BEGIN:STANDARD
TZOFFSETFROM:+0300
TZOFFSETTO:+0300
TZNAME:EAT
DTSTART:20240101T000000
END:STANDARD
END:VTIMEZONE
BEGIN:VEVENT
DTSTART;TZID=Africa/Nairobi:20240803T080000
DTEND;TZID=Africa/Nairobi:20240803T123000
DTSTAMP:20260420T153739
CREATED:20231201T152122Z
LAST-MODIFIED:20231201T152122Z
UID:15393-1722672000-1722688200@www.strathmore.ac.ke
SUMMARY:Parents seminar 3 G5
DESCRIPTION:Grade 5 parents have their 3rd seminar
URL:https://www.strathmore.ac.ke/event/parents-seminar-3-g5/
CATEGORIES:Parents Seminar
END:VEVENT
BEGIN:VEVENT
DTSTART;TZID=Africa/Nairobi:20240803T080000
DTEND;TZID=Africa/Nairobi:20240803T123000
DTSTAMP:20260420T153739
CREATED:20231201T152226Z
LAST-MODIFIED:20231201T152226Z
UID:15395-1722672000-1722688200@www.strathmore.ac.ke
SUMMARY:Parents seminar 2 F1
DESCRIPTION:Form 1 parents have their second seminar
URL:https://www.strathmore.ac.ke/event/parents-seminar-2-f1/
CATEGORIES:Parents Seminar
END:VEVENT
END:VCALENDAR