BEGIN:VCALENDAR
VERSION:2.0
PRODID:-//Strathmore School - ECPv6.10.1.1//NONSGML v1.0//EN
CALSCALE:GREGORIAN
METHOD:PUBLISH
X-ORIGINAL-URL:https://www.strathmore.ac.ke
X-WR-CALDESC:Events for Strathmore School
REFRESH-INTERVAL;VALUE=DURATION:PT1H
X-Robots-Tag:noindex
X-PUBLISHED-TTL:PT1H
BEGIN:VTIMEZONE
TZID:Africa/Nairobi
BEGIN:STANDARD
TZOFFSETFROM:+0300
TZOFFSETTO:+0300
TZNAME:EAT
DTSTART:20260101T000000
END:STANDARD
END:VTIMEZONE
BEGIN:VEVENT
DTSTART;VALUE=DATE:20260623
DTEND;VALUE=DATE:20260624
DTSTAMP:20260420T033807
CREATED:20231201T150530Z
LAST-MODIFIED:20260105T071804Z
UID:15369-1782172800-1782259199@www.strathmore.ac.ke
SUMMARY:Excursion F3
DESCRIPTION:Form 3s have excursion
URL:https://www.strathmore.ac.ke/event/excursion-f3/
CATEGORIES:Excursion
END:VEVENT
END:VCALENDAR