BEGIN:VCALENDAR
VERSION:2.0
PRODID:-//Strathmore School - ECPv6.10.1.1//NONSGML v1.0//EN
CALSCALE:GREGORIAN
METHOD:PUBLISH
X-WR-CALNAME:Strathmore School
X-ORIGINAL-URL:https://www.strathmore.ac.ke
X-WR-CALDESC:Events for Strathmore School
REFRESH-INTERVAL;VALUE=DURATION:PT1H
X-Robots-Tag:noindex
X-PUBLISHED-TTL:PT1H
BEGIN:VTIMEZONE
TZID:Africa/Nairobi
BEGIN:STANDARD
TZOFFSETFROM:+0300
TZOFFSETTO:+0300
TZNAME:EAT
DTSTART:20260101T000000
END:STANDARD
END:VTIMEZONE
BEGIN:VEVENT
DTSTART;VALUE=DATE:20260713
DTEND;VALUE=DATE:20260720
DTSTAMP:20260424T152756
CREATED:20231201T151412Z
LAST-MODIFIED:20260105T071020Z
UID:15383-1783900800-1784505599@www.strathmore.ac.ke
SUMMARY:Form 4 study leave
DESCRIPTION:Form 4s have a 1 week break to study for mock examinations
URL:https://www.strathmore.ac.ke/event/form-4-study-leave/
CATEGORIES:School Holiday
END:VEVENT
BEGIN:VEVENT
DTSTART;VALUE=DATE:20260715
DTEND;VALUE=DATE:20260716
DTSTAMP:20260424T152756
CREATED:20231201T150058Z
LAST-MODIFIED:20260105T072000Z
UID:15359-1784073600-1784159999@www.strathmore.ac.ke
SUMMARY:Excursion G10
DESCRIPTION:Grade 10 go for excursion
URL:https://www.strathmore.ac.ke/event/excursion-f2/
CATEGORIES:Excursion
END:VEVENT
END:VCALENDAR