BEGIN:VCALENDAR
VERSION:2.0
PRODID:-//Strathmore School - ECPv6.10.1.1//NONSGML v1.0//EN
CALSCALE:GREGORIAN
METHOD:PUBLISH
X-ORIGINAL-URL:https://www.strathmore.ac.ke
X-WR-CALDESC:Events for Strathmore School
REFRESH-INTERVAL;VALUE=DURATION:PT1H
X-Robots-Tag:noindex
X-PUBLISHED-TTL:PT1H
BEGIN:VTIMEZONE
TZID:Africa/Nairobi
BEGIN:STANDARD
TZOFFSETFROM:+0300
TZOFFSETTO:+0300
TZNAME:EAT
DTSTART:20240101T000000
END:STANDARD
END:VTIMEZONE
BEGIN:VEVENT
DTSTART;VALUE=DATE:20260402
DTEND;VALUE=DATE:20260403
DTSTAMP:20260425T144330
CREATED:20231201T124132Z
LAST-MODIFIED:20260105T111131Z
UID:15279-1775088000-1775174399@www.strathmore.ac.ke
SUMMARY:Holy Thursday
DESCRIPTION:Holy Thursday
URL:https://www.strathmore.ac.ke/event/holy-thursday/
CATEGORIES:Chaplaincy
END:VEVENT
BEGIN:VEVENT
DTSTART;VALUE=DATE:20260329
DTEND;VALUE=DATE:20260330
DTSTAMP:20260425T144330
CREATED:20231201T124011Z
LAST-MODIFIED:20260105T111012Z
UID:15277-1774742400-1774828799@www.strathmore.ac.ke
SUMMARY:Palm Sunday
DESCRIPTION:
URL:https://www.strathmore.ac.ke/event/palm-sunday/
CATEGORIES:Chaplaincy
END:VEVENT
BEGIN:VEVENT
DTSTART;VALUE=DATE:20260218
DTEND;VALUE=DATE:20260219
DTSTAMP:20260425T144330
CREATED:20231201T121600Z
LAST-MODIFIED:20260105T092655Z
UID:15253-1771372800-1771459199@www.strathmore.ac.ke
SUMMARY:Ash Wednesday
DESCRIPTION:Chaplaincy commemorates the beginning of lent season
URL:https://www.strathmore.ac.ke/event/ash-wednesday/
CATEGORIES:Chaplaincy
END:VEVENT
BEGIN:VEVENT
DTSTART;VALUE=DATE:20240513
DTEND;VALUE=DATE:20240514
DTSTAMP:20260425T144330
CREATED:20231201T143005Z
LAST-MODIFIED:20231201T143005Z
UID:15320-1715558400-1715644799@www.strathmore.ac.ke
SUMMARY:Form 1 Pilgrimage
DESCRIPTION:Form 1s have pilgrimage
URL:https://www.strathmore.ac.ke/event/form-1-pilgrimage/
CATEGORIES:Chaplaincy
END:VEVENT
END:VCALENDAR