BEGIN:VCALENDAR
VERSION:2.0
PRODID:-//Strathmore School - ECPv6.10.1.1//NONSGML v1.0//EN
CALSCALE:GREGORIAN
METHOD:PUBLISH
X-ORIGINAL-URL:https://www.strathmore.ac.ke
X-WR-CALDESC:Events for Strathmore School
REFRESH-INTERVAL;VALUE=DURATION:PT1H
X-Robots-Tag:noindex
X-PUBLISHED-TTL:PT1H
BEGIN:VTIMEZONE
TZID:Africa/Nairobi
BEGIN:STANDARD
TZOFFSETFROM:+0300
TZOFFSETTO:+0300
TZNAME:EAT
DTSTART:20240101T000000
END:STANDARD
END:VTIMEZONE
BEGIN:VEVENT
DTSTART;VALUE=DATE:20240703
DTEND;VALUE=DATE:20240704
DTSTAMP:20260420T115411
CREATED:20231201T150612Z
LAST-MODIFIED:20231201T150612Z
UID:15371-1719964800-1720051199@www.strathmore.ac.ke
SUMMARY:Excursion F1
DESCRIPTION:Form 1s have excursion
URL:https://www.strathmore.ac.ke/event/excursion-f1/
CATEGORIES:Excursion
END:VEVENT
BEGIN:VEVENT
DTSTART;TZID=Africa/Nairobi:20240706T080000
DTEND;TZID=Africa/Nairobi:20240706T123000
DTSTAMP:20260420T115411
CREATED:20231201T150921Z
LAST-MODIFIED:20231201T150921Z
UID:15377-1720252800-1720269000@www.strathmore.ac.ke
SUMMARY:Parents Seminar 2 G5
DESCRIPTION:2nd session of parents seminar for Grade 5 parents
URL:https://www.strathmore.ac.ke/event/parents-seminar-2-g5/
CATEGORIES:Parents Seminar
END:VEVENT
BEGIN:VEVENT
DTSTART;VALUE=DATE:20240713
DTEND;VALUE=DATE:20240714
DTSTAMP:20260420T115411
CREATED:20231201T151243Z
LAST-MODIFIED:20231201T151243Z
UID:15381-1720828800-1720915199@www.strathmore.ac.ke
SUMMARY:Entrance Exams G1 & G7
DESCRIPTION:Entrance exam day for Grade 1 and Grade 7 entry to the school
URL:https://www.strathmore.ac.ke/event/entrance-exams-g1-g7/
CATEGORIES:Entrance Test
END:VEVENT
END:VCALENDAR