BEGIN:VCALENDAR
VERSION:2.0
PRODID:-//Strathmore School - ECPv6.10.1.1//NONSGML v1.0//EN
CALSCALE:GREGORIAN
METHOD:PUBLISH
X-WR-CALNAME:Strathmore School
X-ORIGINAL-URL:https://www.strathmore.ac.ke
X-WR-CALDESC:Events for Strathmore School
REFRESH-INTERVAL;VALUE=DURATION:PT1H
X-Robots-Tag:noindex
X-PUBLISHED-TTL:PT1H
BEGIN:VTIMEZONE
TZID:Africa/Nairobi
BEGIN:STANDARD
TZOFFSETFROM:+0300
TZOFFSETTO:+0300
TZNAME:EAT
DTSTART:20260101T000000
END:STANDARD
TZID:UTC
BEGIN:STANDARD
TZOFFSETFROM:+0000
TZOFFSETTO:+0000
TZNAME:UTC
DTSTART:20260101T000000
END:STANDARD
END:VTIMEZONE
BEGIN:VEVENT
DTSTART;VALUE=DATE:20260704
DTEND;VALUE=DATE:20260705
DTSTAMP:20260424T102111
CREATED:20231201T150807Z
LAST-MODIFIED:20260105T071242Z
UID:15375-1783123200-1783209599@www.strathmore.ac.ke
SUMMARY:Family Sports
DESCRIPTION:An afternoon of fun games and activities for families in school
URL:https://www.strathmore.ac.ke/event/family-sports-3/
CATEGORIES:Family Sports
END:VEVENT
BEGIN:VEVENT
DTSTART;TZID=UTC:20260704T080000
DTEND;TZID=UTC:20260704T123000
DTSTAMP:20260424T102111
CREATED:20260105T110806Z
LAST-MODIFIED:20260105T110806Z
UID:19139-1783152000-1783168200@www.strathmore.ac.ke
SUMMARY:Upeo Parents Seminar 1
DESCRIPTION:Upeo parents have their 1st seminar
URL:https://www.strathmore.ac.ke/event/upeo-parents-seminar-1/
END:VEVENT
BEGIN:VEVENT
DTSTART;TZID=UTC:20260704T080000
DTEND;TZID=UTC:20260704T170000
DTSTAMP:20260424T102111
CREATED:20260105T110625Z
LAST-MODIFIED:20260105T110625Z
UID:19137-1783152000-1783184400@www.strathmore.ac.ke
SUMMARY:Parents seminar 3 G1\, G9
DESCRIPTION:Grade 1 and Grade 9 have their third parents seminar
URL:https://www.strathmore.ac.ke/event/parents-seminar-3-g1-g9/
END:VEVENT
BEGIN:VEVENT
DTSTART;VALUE=DATE:20260706
DTEND;VALUE=DATE:20260707
DTSTAMP:20260424T102111
CREATED:20231201T150446Z
LAST-MODIFIED:20260105T071622Z
UID:15367-1783296000-1783382399@www.strathmore.ac.ke
SUMMARY:Excursion G8
DESCRIPTION:Grade 8s go for excursion
URL:https://www.strathmore.ac.ke/event/excursion-g8/
CATEGORIES:Excursion
END:VEVENT
BEGIN:VEVENT
DTSTART;VALUE=DATE:20260710
DTEND;VALUE=DATE:20260711
DTSTAMP:20260424T102111
CREATED:20231201T151050Z
LAST-MODIFIED:20260105T071139Z
UID:15379-1783641600-1783727999@www.strathmore.ac.ke
SUMMARY:Athletics Day
DESCRIPTION:A day of high level athletics competition for the students
URL:https://www.strathmore.ac.ke/event/athletics-day/
CATEGORIES:Athletics Day
END:VEVENT
BEGIN:VEVENT
DTSTART;VALUE=DATE:20260713
DTEND;VALUE=DATE:20260720
DTSTAMP:20260424T102111
CREATED:20231201T151412Z
LAST-MODIFIED:20260105T071020Z
UID:15383-1783900800-1784505599@www.strathmore.ac.ke
SUMMARY:Form 4 study leave
DESCRIPTION:Form 4s have a 1 week break to study for mock examinations
URL:https://www.strathmore.ac.ke/event/form-4-study-leave/
CATEGORIES:School Holiday
END:VEVENT
BEGIN:VEVENT
DTSTART;VALUE=DATE:20260715
DTEND;VALUE=DATE:20260716
DTSTAMP:20260424T102111
CREATED:20231201T150058Z
LAST-MODIFIED:20260105T072000Z
UID:15359-1784073600-1784159999@www.strathmore.ac.ke
SUMMARY:Excursion G10
DESCRIPTION:Grade 10 go for excursion
URL:https://www.strathmore.ac.ke/event/excursion-f2/
CATEGORIES:Excursion
END:VEVENT
BEGIN:VEVENT
DTSTART;VALUE=DATE:20260717
DTEND;VALUE=DATE:20260718
DTSTAMP:20260424T102111
CREATED:20241220T154255Z
LAST-MODIFIED:20260105T071516Z
UID:17315-1784246400-1784332799@www.strathmore.ac.ke
SUMMARY:Excursion G9
DESCRIPTION:Grade 9s go for excursion
URL:https://www.strathmore.ac.ke/event/excursion-g9/
CATEGORIES:Excursion
END:VEVENT
BEGIN:VEVENT
DTSTART;TZID=Africa/Nairobi:20260718T080000
DTEND;TZID=Africa/Nairobi:20260718T123000
DTSTAMP:20260424T102111
CREATED:20231201T151526Z
LAST-MODIFIED:20260105T072204Z
UID:15385-1784361600-1784377800@www.strathmore.ac.ke
SUMMARY:Parents seminar G8 & UPEO-2
DESCRIPTION:Grade 8s and Upeo parents have their seminar
URL:https://www.strathmore.ac.ke/event/parents-seminar-1-f1-and-g8/
CATEGORIES:Parents Seminar
END:VEVENT
BEGIN:VEVENT
DTSTART;TZID=Africa/Nairobi:20260718T080000
DTEND;TZID=Africa/Nairobi:20260718T123000
DTSTAMP:20260424T102111
CREATED:20231201T151844Z
LAST-MODIFIED:20260105T072132Z
UID:15389-1784361600-1784377800@www.strathmore.ac.ke
SUMMARY:Parents seminar G6\, G10 & UPEO-3
DESCRIPTION:Grade 10\, Grade 6 and Upeo parents have their seminar
URL:https://www.strathmore.ac.ke/event/parents-seminar-1-g6-f2/
CATEGORIES:Parents Seminar
END:VEVENT
BEGIN:VEVENT
DTSTART;VALUE=DATE:20260720
DTEND;VALUE=DATE:20260801
DTSTAMP:20260424T102111
CREATED:20231201T151710Z
LAST-MODIFIED:20260105T070748Z
UID:15387-1784505600-1785542399@www.strathmore.ac.ke
SUMMARY:Form 4 mocks
DESCRIPTION:Form 4s do their mock examinations
URL:https://www.strathmore.ac.ke/event/form-4-mocks/
CATEGORIES:CAT
END:VEVENT
BEGIN:VEVENT
DTSTART;VALUE=DATE:20260729
DTEND;VALUE=DATE:20260801
DTSTAMP:20260424T102111
CREATED:20231201T151943Z
LAST-MODIFIED:20260105T070405Z
UID:15391-1785283200-1785542399@www.strathmore.ac.ke
SUMMARY:CAT 4
DESCRIPTION:The school embarks on end of term 2 exams
URL:https://www.strathmore.ac.ke/event/cat-4/
CATEGORIES:CAT
END:VEVENT
BEGIN:VEVENT
DTSTART;VALUE=DATE:20260801
DTEND;VALUE=DATE:20260825
DTSTAMP:20260424T102111
CREATED:20231201T152344Z
LAST-MODIFIED:20260105T070158Z
UID:15397-1785542400-1787615999@www.strathmore.ac.ke
SUMMARY:End of Term 2 Holiday
DESCRIPTION:End of term 2 holiday break
URL:https://www.strathmore.ac.ke/event/school-break/
CATEGORIES:School Holiday
END:VEVENT
END:VCALENDAR